BEGIN:VCALENDAR
VERSION:2.0
PRODID:-//Picayune Rancheria of the Chukchansi Indians - ECPv6.13.1//NONSGML v1.0//EN
CALSCALE:GREGORIAN
METHOD:PUBLISH
X-ORIGINAL-URL:https://chukchansi-nsn.gov
X-WR-CALDESC:Events for Picayune Rancheria of the Chukchansi Indians
REFRESH-INTERVAL;VALUE=DURATION:PT1H
X-Robots-Tag:noindex
X-PUBLISHED-TTL:PT1H
BEGIN:VTIMEZONE
TZID:America/Los_Angeles
BEGIN:DAYLIGHT
TZOFFSETFROM:-0800
TZOFFSETTO:-0700
TZNAME:PDT
DTSTART:20240310T100000
END:DAYLIGHT
BEGIN:STANDARD
TZOFFSETFROM:-0700
TZOFFSETTO:-0800
TZNAME:PST
DTSTART:20241103T090000
END:STANDARD
END:VTIMEZONE
BEGIN:VEVENT
DTSTART;TZID=America/Los_Angeles:20240801T090000
DTEND;TZID=America/Los_Angeles:20240801T170000
DTSTAMP:20260419T080658
CREATED:20240311T222806Z
LAST-MODIFIED:20240311T224109Z
UID:10000454-1722502800-1722531600@chukchansi-nsn.gov
SUMMARY:TA Meeting
DESCRIPTION:
URL:https://chukchansi-nsn.gov/event/ta-meeting/2024-08-01/
LOCATION:Butler Building\, 711 Lucky Lane\, Coarsegold\, CA\, 93614\, United States
END:VEVENT
BEGIN:VEVENT
DTSTART;TZID=America/Los_Angeles:20240807T090000
DTEND;TZID=America/Los_Angeles:20240807T170000
DTSTAMP:20260419T080658
CREATED:20240722T165032Z
LAST-MODIFIED:20240722T165032Z
UID:10000769-1723021200-1723050000@chukchansi-nsn.gov
SUMMARY:CEDA Meeting
DESCRIPTION:
URL:https://chukchansi-nsn.gov/event/ceda-meeting/2024-08-07/
LOCATION:Chukchansi Gold Resort & Casino Conference Center\, 711 Lucky Lane\, Coarsegold\, CA\, 93614\, United States
END:VEVENT
BEGIN:VEVENT
DTSTART;TZID=America/Los_Angeles:20240811T083000
DTEND;TZID=America/Los_Angeles:20240811T093000
DTSTAMP:20260419T080658
CREATED:20240801T221901Z
LAST-MODIFIED:20240809T182033Z
UID:10000950-1723365000-1723368600@chukchansi-nsn.gov
SUMMARY:CANCELED: Quarterly Meeting
DESCRIPTION:RSVP Link: https://forms.office.com/Pages/ResponsePage.aspx?id=mvzZUvn550CgoMBY9lwMtLiLbEqZtyxDuGvayto6u_NURFlFRzJKNTkwSU1ETEkyM1NQTDNFSEFHRi4u
URL:https://chukchansi-nsn.gov/event/quarterly-meeting/
LOCATION:Chukchansi Park\, 1800 Tulare Street\, Fresno\, CA\, 93721\, United States
END:VEVENT
BEGIN:VEVENT
DTSTART;TZID=America/Los_Angeles:20240815T090000
DTEND;TZID=America/Los_Angeles:20240815T170000
DTSTAMP:20260419T080658
CREATED:20240311T223959Z
LAST-MODIFIED:20240311T224219Z
UID:10000576-1723712400-1723741200@chukchansi-nsn.gov
SUMMARY:TA Meeting
DESCRIPTION:
URL:https://chukchansi-nsn.gov/event/ta-meeting-2/2024-08-15/
LOCATION:Butler Building\, 711 Lucky Lane\, Coarsegold\, CA\, 93614\, United States
END:VEVENT
BEGIN:VEVENT
DTSTART;TZID=America/Los_Angeles:20240826T180000
DTEND;TZID=America/Los_Angeles:20240826T210000
DTSTAMP:20260419T080658
CREATED:20230622T011537Z
LAST-MODIFIED:20230621T185336Z
UID:10000015-1724695200-1724706000@chukchansi-nsn.gov
SUMMARY:Tribal Council Monthly Meeting
DESCRIPTION:
URL:https://chukchansi-nsn.gov/event/general-council-monthly-meeting/2024-08-26/
LOCATION:Chukchansi Conference Center\, 711 Lucky Lane\, Coarsegold\, CA\, 93614\, United States
END:VEVENT
BEGIN:VEVENT
DTSTART;TZID=America/Los_Angeles:20240828T090000
DTEND;TZID=America/Los_Angeles:20240828T170000
DTSTAMP:20260419T080658
CREATED:20240722T165134Z
LAST-MODIFIED:20240722T165134Z
UID:10000891-1724835600-1724864400@chukchansi-nsn.gov
SUMMARY:CSE Meeting
DESCRIPTION:
URL:https://chukchansi-nsn.gov/event/cse-meeting/2024-08-28/
LOCATION:Butler Building\, 711 Lucky Lane\, Coarsegold\, CA\, 93614\, United States
END:VEVENT
BEGIN:VEVENT
DTSTART;TZID=America/Los_Angeles:20240829T090000
DTEND;TZID=America/Los_Angeles:20240829T170000
DTSTAMP:20260419T080658
CREATED:20240802T182141Z
LAST-MODIFIED:20240802T182216Z
UID:10001068-1724922000-1724950800@chukchansi-nsn.gov
SUMMARY:CEDA Meeting
DESCRIPTION:
URL:https://chukchansi-nsn.gov/event/ceda-meeting-3/
LOCATION:Chukchansi Gold Resort & Casino Conference Center\, 711 Lucky Lane\, Coarsegold\, CA\, 93614\, United States
END:VEVENT
END:VCALENDAR